BEGIN:VCALENDAR
VERSION:2.0
PRODID:-//BFW Nord//NONSGML v1.0//EN
CALSCALE:GREGORIAN
METHOD:PUBLISH
X-WR-CALNAME:BFW Nord
X-ORIGINAL-URL:https://www.bfw-nord.de
X-WR-CALDESC:Termine für BFW Landesverband Nord e.V.
BEGIN:VEVENT
SUMMARY:Save the Date: 13. BFW Nord Golf Cup
DTSTART:20260604T100000
DTEND:20260604T220000
DTSTAMP:20260422T150742
CREATED:20260109T103903
LAST-MODIFIED:20260422T150742
UID:2026-01-09-10-39-0369eb5aac34248@www.bfw-nord.de
URL:https://www.bfw-nord.de/veranstaltung/13-bfw-nord-golf-cup/
LOCATION:Golf Club Schloss Breitenburg\nGut Osterholz 3\, 25524 Breitenburg
ORGANIZER;CN='BFW Nord Service GmbH':MAILTO:veranstaltungen@bfw-nord.de
ATTACH;FMTTYPE=image/png:https://www.bfw-nord.de/wp-content/uploads/2025/03
 /GC-2025-1900900-1024x485.png
END:VEVENT
END:VCALENDAR
