BEGIN:VCALENDAR
VERSION:2.0
PRODID:-//BFW Nord//NONSGML v1.0//EN
CALSCALE:GREGORIAN
METHOD:PUBLISH
X-WR-CALNAME:BFW Nord
X-ORIGINAL-URL:https://www.bfw-nord.de
X-WR-CALDESC:Termine für BFW Landesverband Nord e.V.
BEGIN:VEVENT
SUMMARY:1. BFW Nord ImmoLounge 2026
DTSTART:20260505T180000
DTEND:20260505T220000
DTSTAMP:20260421T174554
CREATED:20260109T100327
LAST-MODIFIED:20260421T174554
UID:2026-01-09-10-03-2769eca7a9a0f83@www.bfw-nord.de
URL:https://www.bfw-nord.de/veranstaltung/immolounge-2026-1/
LOCATION:HERITAGE Rooftop Bar\nAn der Alster 52\, 20099 Hamburg
ORGANIZER;CN='BFW Nord Service GmbH':MAILTO:veranstaltungen@bfw-nord.de
ATTACH;FMTTYPE=image/png:https://www.bfw-nord.de/wp-content/uploads/2026/03
 /Doo-Banner_IL-2-1024x256.png
END:VEVENT
END:VCALENDAR
